BEGIN:VCALENDAR
VERSION:2.0
PRODID:-//Ribering - ECPv6.15.20//NONSGML v1.0//EN
CALSCALE:GREGORIAN
METHOD:PUBLISH
X-WR-CALNAME:Ribering
X-ORIGINAL-URL:https://ribering.es
X-WR-CALDESC:Eventos para Ribering
REFRESH-INTERVAL;VALUE=DURATION:PT1H
X-Robots-Tag:noindex
X-PUBLISHED-TTL:PT1H
BEGIN:VTIMEZONE
TZID:Europe/Madrid
BEGIN:DAYLIGHT
TZOFFSETFROM:+0100
TZOFFSETTO:+0200
TZNAME:CEST
DTSTART:20240331T010000
END:DAYLIGHT
BEGIN:STANDARD
TZOFFSETFROM:+0200
TZOFFSETTO:+0100
TZNAME:CET
DTSTART:20241027T010000
END:STANDARD
BEGIN:DAYLIGHT
TZOFFSETFROM:+0100
TZOFFSETTO:+0200
TZNAME:CEST
DTSTART:20250330T010000
END:DAYLIGHT
BEGIN:STANDARD
TZOFFSETFROM:+0200
TZOFFSETTO:+0100
TZNAME:CET
DTSTART:20251026T010000
END:STANDARD
BEGIN:DAYLIGHT
TZOFFSETFROM:+0100
TZOFFSETTO:+0200
TZNAME:CEST
DTSTART:20260329T010000
END:DAYLIGHT
BEGIN:STANDARD
TZOFFSETFROM:+0200
TZOFFSETTO:+0100
TZNAME:CET
DTSTART:20261025T010000
END:STANDARD
END:VTIMEZONE
BEGIN:VEVENT
DTSTART;TZID=Europe/Madrid:20250319T190000
DTEND;TZID=Europe/Madrid:20250319T203000
DTSTAMP:20260421T171902
CREATED:20250204T101354Z
LAST-MODIFIED:20250319T091523Z
UID:23833-1742410800-1742416200@ribering.es
SUMMARY:Inauguración Ribering 3.0: tercera sala\, Estíbaliz Escudero\, María Vela y sorpresas
DESCRIPTION:Tras nuestro segundo aniversario el pasado mes de diciembre\, seguimos dando pasos importantes e ilusionantes en nuestro espacio de RIBERING en Aranda de Duero… Yeah! \nEl miércoles día 19 de marzo celebraremos la inauguración de RIBERING 3.0 abriendo una tercera sala que nos permitirá contar con tres espacios independientes para completar y simultanear todas los servicios que ofrecemos: coworking\, formación\, reuniones y encuentros\, actividades regulares y eventos con impacto en la Ribera del Duero. \nAsí que toca desvirtualización masiva… ¡no faltéis! Además contaremos con Estíbaliz Escudero (emprendedora social arandina del programa europeo «The Break»)\, María Vela (facilitadora experta del programa europeo «Communities for Climate»)\, y presentaremos otras sorpresas chulas que se avecinan (os adelantamos que son muy sabrosas\, ecológicas y sanas     ) \nTerminaremos con una merendola (pre-cena) colaborativa\, ¡encantados de probar vuestras aportaciones culinarias! \n Miércoles 19 de marzo\, 19 horas\n RIBERING\nC/ Bajada al Molino 15\nAranda de Duero (Burgos) \n Acceso gratuito. Inscríbete aquí abajo ⤵️
URL:https://ribering.es/event/inauguracion3-aranda/
LOCATION:Ribering Coworking\, Bajada al Molino 15\, Aranda de Duero\, Burgos\, 09400
CATEGORIES:Upcoming Events
ATTACH;FMTTYPE=image/png:https://ribering.es/wp-content/uploads/2025/02/2025.03.19_ribering_inauguracion_3.0.png
GEO:41.6692613;-3.6842594
X-APPLE-STRUCTURED-LOCATION;VALUE=URI;X-ADDRESS=Ribering Coworking Bajada al Molino 15 Aranda de Duero Burgos 09400;X-APPLE-RADIUS=500;X-TITLE=Bajada al Molino 15:geo:-3.6842594,41.6692613
END:VEVENT
END:VCALENDAR