BEGIN:VCALENDAR
VERSION:2.0
PRODID:-//Ribering - ECPv6.15.20//NONSGML v1.0//EN
CALSCALE:GREGORIAN
METHOD:PUBLISH
X-WR-CALNAME:Ribering
X-ORIGINAL-URL:https://ribering.es
X-WR-CALDESC:Eventos para Ribering
REFRESH-INTERVAL;VALUE=DURATION:PT1H
X-Robots-Tag:noindex
X-PUBLISHED-TTL:PT1H
BEGIN:VTIMEZONE
TZID:Europe/Madrid
BEGIN:DAYLIGHT
TZOFFSETFROM:+0100
TZOFFSETTO:+0200
TZNAME:CEST
DTSTART:20230326T010000
END:DAYLIGHT
BEGIN:STANDARD
TZOFFSETFROM:+0200
TZOFFSETTO:+0100
TZNAME:CET
DTSTART:20231029T010000
END:STANDARD
BEGIN:DAYLIGHT
TZOFFSETFROM:+0100
TZOFFSETTO:+0200
TZNAME:CEST
DTSTART:20240331T010000
END:DAYLIGHT
BEGIN:STANDARD
TZOFFSETFROM:+0200
TZOFFSETTO:+0100
TZNAME:CET
DTSTART:20241027T010000
END:STANDARD
BEGIN:DAYLIGHT
TZOFFSETFROM:+0100
TZOFFSETTO:+0200
TZNAME:CEST
DTSTART:20250330T010000
END:DAYLIGHT
BEGIN:STANDARD
TZOFFSETFROM:+0200
TZOFFSETTO:+0100
TZNAME:CET
DTSTART:20251026T010000
END:STANDARD
END:VTIMEZONE
BEGIN:VEVENT
DTSTART;TZID=Europe/Madrid:20241226T183000
DTEND;TZID=Europe/Madrid:20241226T203000
DTSTAMP:20260421T130949
CREATED:20241207T092959Z
LAST-MODIFIED:20250213T123029Z
UID:23258-1735237800-1735245000@ribering.es
SUMMARY:RiberTalent 2024: charlas inspiradoras de talento ribereño - 2º Aniversario Ribering
DESCRIPTION:El 26 de diciembre de 2024 cumplimos 2 años del nacimiento del proyecto Ribering\, un espacio de colaboración y una comunidad de agentes de cambio construyendo futuros (¡y presentes!) ilusionantes para Aranda y la Ribera del Duero. \nEste segundo año ha sido de gran intensidad: hemos participado en muchos proyectos regenerando tejido social y ecosistemas naturales\, hemos aprendido nuevas herramientas\, hemos colaborado con muchas personas y entidades haciendo cosas transformadoras: ¡hemos expandido Ribering en todos los sentidos! \nY así lo vamos a celebrar: repasando el camino recorrido y avistando el horizonte por recorrer. Todo ello aderezado con un cocktail navideño y sobre todo charlas inspiradoras de gente con mucho talento: tanto de la Ribera que vuelve a casa por Navidad\, como gente de otros lugares que han decidido instalarse aquí por nuestra calidad de vida\, oportunidades profesionales y patrimonio cultural y natural. Nos compartirán sus experiencias\, ideas o proyectos\, haciéndonos partícipes de sus sueños. Tendremos el placer de contar con: \n\nDavid Martínez Martín: científico arandino que en 2016 obtuvo el «Premio a la Excelencia en Ciencias y tecnologías Físicas». Actualmente reside en Australia\, donde trabaja como Director adjunto de Microscopía y Microanálisis de la Universidad de Sydney.\nMarta Iglesias: arandina residente en Madrid\, autónoma desde los 21 años\, especializada en comunicación gastronómica. Genera más de cinco millones de visitas mensuales a través de sus canales\, donde muestra lo que le gusta: restaurantes\, viajes y bodegas.\nJorge Luquero: chef arandino que reside en Barcelona y forma parte del equipo de Disfrutar\, mejor restaurante del mundo 2024.\nJeni Wilson: nativa de Australia y Escocia que tiene su propia academia de inglés Vintage Class Academy\, enfocada al mundo del vino\, con más de 20 años de experiencia dando clases por todo el mundo. Reside en el pueblo burgalés de San Juan del Monte\, muy cerca de Aranda de Duero.\nMus: emprendedor senegalés que regenta el bar Black And White en Aranda de Duero.\nRoger Roque: artista hondureño afincado en Aranda de Duero España centrado en Dirección de arte y diseño 3D\, realizando proyectos para empresas internacionales como Snapchat\, Forbes o Xiaomi.\n\nAdemás de todo este elenco de protagonistas\, lanzaremos una gran sorpresa colaborativa para poder participar aún más de cerca en Ribering… ¡no te la pierdas! \n¿Vuelves a la Ribera por Navidad? ¿Quizás incluso para quedarte y formar parte de un comunidad transformadora? \nVente al RiberTalent 2024\, celebremos un añito impresionante y conspiremos un futuro aún mejor 🙂 \n 
URL:https://ribering.es/event/ribertalent2024/
LOCATION:Ribering Coworking\, Bajada al Molino 15\, Aranda de Duero\, Burgos\, 09400
CATEGORIES:Upcoming Events
ATTACH;FMTTYPE=image/jpeg:https://ribering.es/wp-content/uploads/2024/12/ribertalent-2024-baja.jpg
GEO:41.6692613;-3.6842594
X-APPLE-STRUCTURED-LOCATION;VALUE=URI;X-ADDRESS=Ribering Coworking Bajada al Molino 15 Aranda de Duero Burgos 09400;X-APPLE-RADIUS=500;X-TITLE=Bajada al Molino 15:geo:-3.6842594,41.6692613
END:VEVENT
END:VCALENDAR