BEGIN:VCALENDAR
VERSION:2.0
PRODID:-//Ribering - ECPv6.15.20//NONSGML v1.0//EN
CALSCALE:GREGORIAN
METHOD:PUBLISH
X-ORIGINAL-URL:https://ribering.es
X-WR-CALDESC:Eventos para Ribering
REFRESH-INTERVAL;VALUE=DURATION:PT1H
X-Robots-Tag:noindex
X-PUBLISHED-TTL:PT1H
BEGIN:VTIMEZONE
TZID:Europe/Madrid
BEGIN:DAYLIGHT
TZOFFSETFROM:+0100
TZOFFSETTO:+0200
TZNAME:CEST
DTSTART:20230326T010000
END:DAYLIGHT
BEGIN:STANDARD
TZOFFSETFROM:+0200
TZOFFSETTO:+0100
TZNAME:CET
DTSTART:20231029T010000
END:STANDARD
BEGIN:DAYLIGHT
TZOFFSETFROM:+0100
TZOFFSETTO:+0200
TZNAME:CEST
DTSTART:20240331T010000
END:DAYLIGHT
BEGIN:STANDARD
TZOFFSETFROM:+0200
TZOFFSETTO:+0100
TZNAME:CET
DTSTART:20241027T010000
END:STANDARD
BEGIN:DAYLIGHT
TZOFFSETFROM:+0100
TZOFFSETTO:+0200
TZNAME:CEST
DTSTART:20250330T010000
END:DAYLIGHT
BEGIN:STANDARD
TZOFFSETFROM:+0200
TZOFFSETTO:+0100
TZNAME:CET
DTSTART:20251026T010000
END:STANDARD
END:VTIMEZONE
BEGIN:VEVENT
DTSTART;TZID=Europe/Madrid:20241018T190000
DTEND;TZID=Europe/Madrid:20241018T203000
DTSTAMP:20260423T000047
CREATED:20241010T091721Z
LAST-MODIFIED:20241014T115119Z
UID:10000074-1729278000-1729283400@ribering.es
SUMMARY:Espacios cíclicos de bienestar: Otoño en el cuerpo
DESCRIPTION:Ritmo otoño\, ritmo respiración. Desciende el ritmo\, los días se acortan\, las noches se alargan. ¿Qué sucede dentro de mí? ¿Acojo el nuevo ritmo o me resisto? \nEn nuestro cuerpo hay una constante danza entre la activación y el descanso. Para la salud integral y la comunicación armónica entre mente y cuerpo\, entre corazón y cerebro\, es esencial permitir y saborear la ruta del descanso\, del descenso\, de la quietud segura\, donde poder conectar y sentir desde la experiencia que significa autorregularse. \nTe proponemos un espacio donde nos reuniremos en torno a la estación y sus cualidades\, colores\, olores y sabores\, preparando al cuerpo para habitar el otoño. Un espacio donde escuchar\, descubrir\, cuidad y respetar tu propio ritmo. Creamos sesiones entretejiendo diferentes técnicas corporales\, creativas y terapéuticas. \nImparte el taller la psicóloga Beatriz Abad y la bióloga especializada en fisiología femenina\, Verónica Velasco. \n\nCuándo: viernes 18 de octubre de 19 a 20:30 horas\nLugar: Ribering (C/ Bajada al Molino 15\, Aranda de Duero)\nPrecio: 15 €\nMás información e inscripciones:\n\nBeatriz: 633 314 658\nVerónica: 635 954 160
URL:https://ribering.es/event/espacios-ciclicos-de-bienestar-otono-en-el-cuerpo/
LOCATION:Ribering Coworking\, Bajada al Molino 15\, Aranda de Duero\, Burgos\, 09400
CATEGORIES:Upcoming Events
ATTACH;FMTTYPE=image/jpeg:https://ribering.es/wp-content/uploads/2024/10/Otono-en-el-cuerpo_espiral-Corporal-y-Vero.jpeg
GEO:41.6692613;-3.6842594
X-APPLE-STRUCTURED-LOCATION;VALUE=URI;X-ADDRESS=Ribering Coworking Bajada al Molino 15 Aranda de Duero Burgos 09400;X-APPLE-RADIUS=500;X-TITLE=Bajada al Molino 15:geo:-3.6842594,41.6692613
END:VEVENT
BEGIN:VEVENT
DTSTART;TZID=Europe/Madrid:20241002T190000
DTEND;TZID=Europe/Madrid:20241002T200000
DTSTAMP:20260423T000047
CREATED:20240924T112531Z
LAST-MODIFIED:20240927T152734Z
UID:10000070-1727895600-1727899200@ribering.es
SUMMARY:Charla con la psicóloga Beatriz Miguel Abad sobre psicoterapia corporal\, bienestar y salud integral
DESCRIPTION:El próximo miércoles 2 de octubre te invitamos a participar en la charla que imparte la psicóloga Beatriz Abad Miguel \, presentándonos ESPIRAL CORPORAL\, un espacio de bienestar y salud integral: \n«Cómo la psicoterapia corporal\, el movimiento y la creatividad\, pueden ayudarnos a liberar el ESTRÉS y generar espacios propios de CALMA y BIENESTAR INTEGRAL» \nTe esperamos para comenzar un viaje transformador a través del que sigas conociéndote y trabes una nueva amistad con tu sistema nervioso autónomo. \n  \nCuándo: Miércoles 2 de octubre a las 19 horas \nDónde: Ribering | Coworking y Eventos \nC/ Bajada al molino 15 (bajo) \nAranda de Duero (Burgos) \nMás información: 633 314 658 / espiralcorporal.comunica@gmail.com
URL:https://ribering.es/event/charla-beatriz-psicoterapia-corporal/
LOCATION:Ribering Coworking\, Bajada al Molino 15\, Aranda de Duero\, Burgos\, 09400
CATEGORIES:Upcoming Events
ATTACH;FMTTYPE=image/jpeg:https://ribering.es/wp-content/uploads/2024/09/Beatriz-Psicologa-Espiral-Corporal_Cartel-1.jpeg
GEO:41.6692613;-3.6842594
X-APPLE-STRUCTURED-LOCATION;VALUE=URI;X-ADDRESS=Ribering Coworking Bajada al Molino 15 Aranda de Duero Burgos 09400;X-APPLE-RADIUS=500;X-TITLE=Bajada al Molino 15:geo:-3.6842594,41.6692613
END:VEVENT
BEGIN:VEVENT
DTSTART;TZID=Europe/Madrid:20240911T190000
DTEND;TZID=Europe/Madrid:20240911T203000
DTSTAMP:20260423T000047
CREATED:20240819T134140Z
LAST-MODIFIED:20240910T095950Z
UID:10000007-1726081200-1726086600@ribering.es
SUMMARY:Lanzamiento de la programación de otoño 2024
DESCRIPTION:El próximo miércoles\, y tras casi dos años de andadura\, haremos la presentación oficial de la nueva programación de eventos de RIBERING para el otoño 2024: clases regulares de yoga y de inglés forman parte de la parrilla de contenidos que hemos ajustado a la demanda de nuestra comunidad\, pero también estamos contentos de anunciar el lanzamiento de un encuentro rural europeo de coworkings. \nEsta relación de actividades y eventos\, que también incluyen charlas inspiradoras\, encuentros con nuestra comunidad y otros que os contaremos con más detalle\, son la antesala al anuncio de nuestro segundo aniversario (26 de diciembre) que celebraremos con el estreno de la nueva imagen corporativa y la inauguración de nuevos espacios en nuestras instalaciones de Ribering. \nOs esperamos el próximo miércoles 11 de septiembre a las 19:00 horas en nuestro espacio en la Bajada al Molino número 15. Justo después de la presentación daremos un picnic para intercambiar impresiones y seguir conociendo a las personas de Aranda y la Ribera que se acerquen a Ribering a conocer de cerca nuestra propuesta. ¡Hasta el miércoles!
URL:https://ribering.es/event/lanzamiento-programacion-otono-2024/
LOCATION:Ribering Coworking\, Bajada al Molino 15\, Aranda de Duero\, Burgos\, 09400
CATEGORIES:Upcoming Events
ATTACH;FMTTYPE=image/jpeg:https://ribering.es/wp-content/uploads/2024/08/programacion-otono-2024-scaled.jpg
GEO:41.6692613;-3.6842594
X-APPLE-STRUCTURED-LOCATION;VALUE=URI;X-ADDRESS=Ribering Coworking Bajada al Molino 15 Aranda de Duero Burgos 09400;X-APPLE-RADIUS=500;X-TITLE=Bajada al Molino 15:geo:-3.6842594,41.6692613
END:VEVENT
BEGIN:VEVENT
DTSTART;TZID=Europe/Madrid:20240904T140000
DTEND;TZID=Europe/Madrid:20240904T153000
DTSTAMP:20260423T000047
CREATED:20240903T105245Z
LAST-MODIFIED:20240903T212621Z
UID:10000066-1725458400-1725463800@ribering.es
SUMMARY:Picnics de traje - el último del verano\, 4 septiembre
DESCRIPTION:Vuelven los Picnic de Traje a Ribering! Todos los miércoles de verano a las 14h en nuestro sombreado y verde patio. \nTráete una tortilla\, ensalada\, gazpacho\, frutita … y comparte un momento agradable y divertido con profesionales de diferentes ámbitos en nuestro espacio de coworking y eventos. \nAdemás\, si teletrabajas puedes quedarte a trabajar en Ribering todo el día del picnic para probar gratuitamente nuestras instalaciones y conocer nuestra comunidad. Nuestro horario de apertura es de 9 a 17h. \nSalud\, picnic y coworking 🙂 \n\n\n\n\n\n\n\n\n\n\n \n\n\n\n 
URL:https://ribering.es/event/picnics-de-traje-todos-los-miercoles-de-verano-14h-patio-2/
LOCATION:Ribering Coworking\, Bajada al Molino 15\, Aranda de Duero\, Burgos\, 09400
CATEGORIES:Upcoming Events
ATTACH;FMTTYPE=image/jpeg:https://ribering.es/wp-content/uploads/2024/07/Picnics-de-traje-Ribering-2024-1.jpg
GEO:41.6692613;-3.6842594
X-APPLE-STRUCTURED-LOCATION;VALUE=URI;X-ADDRESS=Ribering Coworking Bajada al Molino 15 Aranda de Duero Burgos 09400;X-APPLE-RADIUS=500;X-TITLE=Bajada al Molino 15:geo:-3.6842594,41.6692613
END:VEVENT
END:VCALENDAR