BEGIN:VCALENDAR
VERSION:2.0
PRODID:-//Ribering - ECPv6.15.20//NONSGML v1.0//EN
CALSCALE:GREGORIAN
METHOD:PUBLISH
X-WR-CALNAME:Ribering
X-ORIGINAL-URL:https://ribering.es
X-WR-CALDESC:Eventos para Ribering
REFRESH-INTERVAL;VALUE=DURATION:PT1H
X-Robots-Tag:noindex
X-PUBLISHED-TTL:PT1H
BEGIN:VTIMEZONE
TZID:Europe/Madrid
BEGIN:DAYLIGHT
TZOFFSETFROM:+0100
TZOFFSETTO:+0200
TZNAME:CEST
DTSTART:20250330T010000
END:DAYLIGHT
BEGIN:STANDARD
TZOFFSETFROM:+0200
TZOFFSETTO:+0100
TZNAME:CET
DTSTART:20251026T010000
END:STANDARD
BEGIN:DAYLIGHT
TZOFFSETFROM:+0100
TZOFFSETTO:+0200
TZNAME:CEST
DTSTART:20260329T010000
END:DAYLIGHT
BEGIN:STANDARD
TZOFFSETFROM:+0200
TZOFFSETTO:+0100
TZNAME:CET
DTSTART:20261025T010000
END:STANDARD
BEGIN:DAYLIGHT
TZOFFSETFROM:+0100
TZOFFSETTO:+0200
TZNAME:CEST
DTSTART:20270328T010000
END:DAYLIGHT
BEGIN:STANDARD
TZOFFSETFROM:+0200
TZOFFSETTO:+0100
TZNAME:CET
DTSTART:20271031T010000
END:STANDARD
END:VTIMEZONE
BEGIN:VEVENT
DTSTART;TZID=Europe/Madrid:20260123T163000
DTEND;TZID=Europe/Madrid:20260123T184500
DTSTAMP:20260421T212314
CREATED:20260113T121826Z
LAST-MODIFIED:20260113T121826Z
UID:10000410-1769185800-1769193900@ribering.es
SUMMARY:Taller de Mindfulness con Alejandra Oliveros: el refugio interior
DESCRIPTION:Iniciación al mindfulness y autocompasión\, una experiencia para tu bienestar. \nTALLER: EL REFUGIO INTERIOR \nUn espacio para habitar el presente\, transformar la voz crítica y aprender a regular tus emociones con amabilidad y humanidad compartida. \nSesión impartida por Alejandra Oliveros\, psicóloga y facilitadora de Mindfulness. \nNo se necesita experiencia previa. \n¿Cuándo?\nViernes 23 de enero\, de 16:30 a 18:45 horas. \n¿Dónde?\nEn Ribering\nC/ Bajada al Molino 15\nAranda de Duero (Burgos) \n Inscripciones obligatorias \n ¿Cómo inscribirse? Escribe a Alejandra por Whatsapp para reservar tu plaza   684 17 37 31
URL:https://ribering.es/event/mindfulness-taller-con-alejandra-oliveros-aranda-de-duero/
LOCATION:Ribering Coworking\, Bajada al Molino 15\, Aranda de Duero\, Burgos\, 09400
CATEGORIES:Upcoming Events
ATTACH;FMTTYPE=image/jpeg:https://ribering.es/wp-content/uploads/2026/01/mindfulness-refugio-interior-alejandra-ribering-aranda-de-duero.jpeg
GEO:41.6692613;-3.6842594
X-APPLE-STRUCTURED-LOCATION;VALUE=URI;X-ADDRESS=Ribering Coworking Bajada al Molino 15 Aranda de Duero Burgos 09400;X-APPLE-RADIUS=500;X-TITLE=Bajada al Molino 15:geo:-3.6842594,41.6692613
END:VEVENT
BEGIN:VEVENT
DTSTART;TZID=Europe/Madrid:20260124T103000
DTEND;TZID=Europe/Madrid:20260124T140000
DTSTAMP:20260421T212314
CREATED:20260117T113343Z
LAST-MODIFIED:20260123T124030Z
UID:10000411-1769250600-1769263200@ribering.es
SUMMARY:Encuentro Intercomarcal de Mujeres Rurales "Castilla se escribe en femenino"
DESCRIPTION:Aranda de Duero se convertirá el sábado 24 de enero en punto de encuentro para el diálogo y la reflexión sobre el papel de la mujer en el medio rural con la celebración del Encuentro Intercomarcal de Mujeres Rurales “Castilla se escribe en femenino”. La cita\, abierta a toda la ciudadanía\, reunirá a representantes y participantes de las comarcas del nordeste de Segovia y de la Ribera del Duero con el objetivo de compartir experiencias\, proyectos e ideas para impulsar el desarrollo y las oportunidades en el territorio. \nLa iniciativa nace como una autoconvocatoria promovida por mujeres\, pero con vocación claramente inclusiva\, destacando la importancia de que hombres y mujeres se impliquen por igual en este tipo de espacios de debate y colaboración. Así\, estos foros permiten conocer de primera mano las iniciativas que ya se están poniendo en marcha en las comarcas para mejorar la calidad de vida y abrir nuevas perspectivas de futuro en el medio rural. \nEl encuentro combinará el análisis y el intercambio de experiencias con un formato participativo a través de varias mesas de trabajo. A lo largo de la mañana intervendrán alcaldesas\, educadoras y emprendedoras\, que aportarán su visión desde distintos ámbitos de responsabilidad y actividad\, abordando tanto los retos como las oportunidades que afrontan las mujeres en los pueblos de Castilla y León. Todo ello propiciará un espacio distendido para intercambiar ideas y fortalecer las redes entre las personas participantes. \nSí pueden asistir niñ@s. \nProgramación:\nSábado 24 de Enero\n\n10:30h | Café de bienvenida\n11:00h | Mesa de alcaldesas\n12:00h | Mesa de educadoras\n13:00h | Mesa de emprendedoras\n14:00h | Picoteo castellano de cierre\n\nFuentes: Diario de la Ribera y enaranda.es.
URL:https://ribering.es/event/encuentro-intercomarcal-de-mujeres-rurales-castilla-se-escribe-en-femenino/
LOCATION:Ribering Coworking\, Bajada al Molino 15\, Aranda de Duero\, Burgos\, 09400
CATEGORIES:Upcoming Events
ATTACH;FMTTYPE=image/jpeg:https://ribering.es/wp-content/uploads/2026/01/Encuentro-Mujeres-Rurales-de-CyL-24-enero-2026.jpg
GEO:41.6692613;-3.6842594
X-APPLE-STRUCTURED-LOCATION;VALUE=URI;X-ADDRESS=Ribering Coworking Bajada al Molino 15 Aranda de Duero Burgos 09400;X-APPLE-RADIUS=500;X-TITLE=Bajada al Molino 15:geo:-3.6842594,41.6692613
END:VEVENT
END:VCALENDAR